BEGIN:VCALENDAR
PRODID:-//eluceo/ical//2.0/EN
VERSION:2.0
CALSCALE:GREGORIAN
BEGIN:VEVENT
UID:7a59b5fd7d8a99880f9a15d91facdcb8
DTSTAMP:20260421T111117Z
SUMMARY:Weihnachtsfeier - 12 pubs before Christmas
DESCRIPTION:
URL:https://graz.rotaract.at/en/agenda/show/148153
DTSTART;TZID=Europe/Zurich:20251128T170000
DTEND;TZID=Europe/Zurich:20251128T230000
LOCATION:Flann
CATEGORIES:Rotaract
END:VEVENT
BEGIN:VTIMEZONE
TZID:Europe/Zurich
BEGIN:STANDARD
DTSTART:20251128T170000
TZNAME:CET
TZOFFSETTO:+0100
TZOFFSETFROM:+0100
END:STANDARD
END:VTIMEZONE
END:VCALENDAR
