BEGIN:VCALENDAR
PRODID:-//eluceo/ical//2.0/EN
VERSION:2.0
CALSCALE:GREGORIAN
BEGIN:VEVENT
UID:77af6abf5db3fdb291e16a0c3d74d233
DTSTAMP:20260421T110035Z
SUMMARY:Stabsübergabe
DESCRIPTION:Referenten/innen:   Menüpreis: EUR 33\,- pP  
URL:https://graz.rotaract.at/de/agenda/show/153095
DTSTART;TZID=Europe/Zurich:20260703T180000
DTEND;TZID=Europe/Zurich:20260703T230000
LOCATION:1 Mediterranean Foodbar\, Körösistraße 10\, 8010 Graz
CATEGORIES:Rotaract
END:VEVENT
BEGIN:VTIMEZONE
TZID:Europe/Zurich
BEGIN:DAYLIGHT
DTSTART:20260703T180000
TZNAME:CEST
TZOFFSETTO:+0200
TZOFFSETFROM:+0200
END:DAYLIGHT
END:VTIMEZONE
END:VCALENDAR
